BEGIN:VCALENDAR
VERSION:2.0
PRODID:-//Le Miroir de Musique - ECPv5.5.0.1//NONSGML v1.0//EN
CALSCALE:GREGORIAN
METHOD:PUBLISH
X-WR-CALNAME:Le Miroir de Musique
X-ORIGINAL-URL:https://lemiroirdemusique.com
X-WR-CALDESC:Events for Le Miroir de Musique
BEGIN:VTIMEZONE
TZID:UTC
BEGIN:STANDARD
TZOFFSETFROM:+0000
TZOFFSETTO:+0000
TZNAME:UTC
DTSTART:20260101T000000
END:STANDARD
END:VTIMEZONE
BEGIN:VEVENT
DTSTART;VALUE=DATE:20270423
DTEND;VALUE=DATE:20270424
DTSTAMP:20260420T025532
CREATED:20260305T115209Z
LAST-MODIFIED:20260305T115209Z
UID:235854-1808438400-1808524799@lemiroirdemusique.com
SUMMARY:Bonifacius Amerbach
DESCRIPTION:
URL:https://lemiroirdemusique.com/event/bonifacius-amerbach/
LOCATION:Musée d’Art et d’Histoire\, Genève\, Rue Charles-Galland 2\, Genève\, 1206\, Switzerland
END:VEVENT
BEGIN:VEVENT
DTSTART;VALUE=DATE:20270314
DTEND;VALUE=DATE:20270315
DTSTAMP:20260420T025532
CREATED:20260305T115025Z
LAST-MODIFIED:20260305T161835Z
UID:235852-1804982400-1805068799@lemiroirdemusique.com
SUMMARY:Fabula di Orfeo Fabula di Orfeo – Angelo Poliziano (1454-1494)
DESCRIPTION:Le renouveau humaniste du mythe d’Orphée \nAlice Borciani\, soprano\nTessa Roos\, mezzo-soprano\nIvo Haun\, ténor\, luth\nJacob Lawrence\, ténor\, lira da braccio\nCyril Escoffier\, ténor\nGrace Newcombe\, harpe\, soprano\nSilke Schulze\, flute et tambour\, chalémie\, bombarde\nMarc Lewon\, cistre\, luth\nBaptiste Romain\, lira da braccio\, rebec\, vièle\, cornemuse & direction \nCe spectacle fusionne concert et théâtre pour redécouvrir le mythe d’Orphée à travers le prisme du poète Poliziano. Au cœur de cette idylle arcadienne\, le dialogue entre la récitation parlée et des instruments emblématiques — lira da braccio\, cetra et luth — fait renaître l’esthétique des cours de la Renaissance. \nUne expérience poétique intense qui explore\, entre ombre et lumière\, les thèmes universels de l’amour\, de la perte et de l’espoir.
URL:https://lemiroirdemusique.com/event/fabula-di-orfeo/
LOCATION:Sion\, Sion\, Switzerland
END:VEVENT
BEGIN:VEVENT
DTSTART;VALUE=DATE:20261212
DTEND;VALUE=DATE:20261213
DTSTAMP:20260420T025532
CREATED:20260305T114934Z
LAST-MODIFIED:20260305T161535Z
UID:235849-1797033600-1797119999@lemiroirdemusique.com
SUMMARY:Lo nostre Nadal
DESCRIPTION:Klangwelten der südfranzösischen Weihnacht \nMiriam Trevisan\, Sopran\, Schlagwerkinstrumente\nSilke Schulze\, Schalmei\, Doulçaine\, Einhandflöte & Trommel\nGiovanna Pessi\, Harfe\nBaptiste Romain\, Fidel\, Sackpfeife\, Rebec & Leitung \nDas Programm Lo nostre Nadal lädt zu einer musikalischen Reise durch die festlichen Traditionen Südfrankreichs ein. Es vereint adventliche Weisen aus der Provence in okzitanischer Sprache\, mittelalterliche Melodien der Trobadors\, Aquitanische Versus und traditionelle Schäfermusik aus dem Limousin\, dem Languedoc und der Gascogne. \nCharakteristisch für dieses Programm ist die Vielfalt historischer Instrumente\, die den besondere Klang dieser Musiktradition lebendig werden lassen: Sechs verschiedene Dudelsäcke entfalten kraftvolle\, vielschichtige Klangwelten\, während die Schalmei an festliche Feiern vergangener Jahrhunderte erinnert.
URL:https://lemiroirdemusique.com/event/lo-nostre-nadal/
LOCATION:Innsbruck\, Innsbruck\, Austria
END:VEVENT
BEGIN:VEVENT
DTSTART;TZID=UTC:20261126T180000
DTEND;TZID=UTC:20261126T190000
DTSTAMP:20260420T025532
CREATED:20260305T114812Z
LAST-MODIFIED:20260305T114812Z
UID:235846-1795716000-1795719600@lemiroirdemusique.com
SUMMARY:La Dolce Vista
DESCRIPTION:Oeuvres de Guillaume Du Fay
URL:https://lemiroirdemusique.com/event/la-dolce-vista-3/
LOCATION:Lausanne\, Lausanne\, Switzerland
END:VEVENT
BEGIN:VEVENT
DTSTART;TZID=UTC:20261018T170000
DTEND;TZID=UTC:20261018T180000
DTSTAMP:20260420T025532
CREATED:20260305T114636Z
LAST-MODIFIED:20260305T161055Z
UID:235843-1792342800-1792346400@lemiroirdemusique.com
SUMMARY:Im Schatten der Malatesta: Gemblaco und Du Fay in Pesaro
DESCRIPTION:Zwei franko-flämische Meister im Italien der Frührenaissance \nGrace Newcombe\, Sopran\, gotische Harfe\, gotische Orgel\nTessa Roos\, Mezzosopran\nIvana Ivanovic\, Mezzosopran\nIvo Haun de Oliveira\, Tenor\, Laute\nMartin Kautzsch\, Tenor \nJacob Lawrence\, Tenor\nCyril Escoffier\, Tenor\nClaire Piganiol\, gotische Harfe\, Organetto\nElizabeth Rumsey\, Vielle\, Viola d’Arco\nMarc Lewon\, Quinterne\, Plektrumlaute\nBaptiste Romain\, Rebec\, Vielle\, Dudelsack & Leitung \nDas Programm eröffnet einen neuen Blick auf das Gesamtwerk von Johannes Franchois de Gemblaco\, einem Lütticher Komponisten des frühen 15. Jahrhunderts. Da seine Werke praktisch noch nie im Konzert zu hören sind\, bietet sich hier eine einmalige Gelegenheit\, ihre stilistische Vielfalt zu entdecken. Ergänzt wird das Programm durch Guillaume Du Fays frühe „Missa Resvelliés vous“\, entstanden um 1422 am Hof der Malatesta.
URL:https://lemiroirdemusique.com/event/im-schatten-der-malatesta-gemblaco-und-du-fay-in-pesaro/
LOCATION:St Albanskirche Basel\, St. Alban-Kirchrain 11\, Basel\, 4052\, Switzerland
END:VEVENT
BEGIN:VEVENT
DTSTART;VALUE=DATE:20260905
DTEND;VALUE=DATE:20260906
DTSTAMP:20260420T025532
CREATED:20260305T114014Z
LAST-MODIFIED:20260305T160955Z
UID:235840-1788566400-1788652799@lemiroirdemusique.com
SUMMARY:Ars Trobar Italica
DESCRIPTION:The Troubadour Legacy in Medieval Italy \nMiriam Trevisan\, soprano\nJacob Lawrence\, tenor\, vielle\nBaptiste Romain\, vielle\, bagpipes & direction \nThis programme explores the vibrant afterlife of Occitan troubadour poetry in medieval Italy\, tracing how the art of the trobar – refined\, intricate\, and often daring – resonated across linguistic and cultural boundaries. Featuring the voices of legendary troubadours such as Bertran de Born\, with his fiery political verse; Folquet de Marselha\, whose lyrical path led from song to sainthood; and Arnaut Daniels\, master of poetic subtlety and praised by Dante himself\, Ars Trobar Italica revives the soundscape of a shared poetic tradition. \nAlongside these Occitan masterpieces\, the programme also includes early Italian compositions – madrigals and ballate from sources such as the Codex Rossi – that bear witness to the enduring influence of troubadour poetics on Italy’s emerging vernacular song. \n*** \nEl Legado Trovadoresco en la Italia Medieval \nEste programa explora la vibrante pervivencia de la lírica trovadoresca occitana en la Italia medieval\, trazando el rastro de un arte del trobar —refinado\, complejo y a menudo audaz— que resonó más allá de las fronteras lingüísticas y culturales. A través de las voces de trovadores legendarios como Bertran de Born\, con sus ardientes versos políticos; Folquet de Marselha\, cuya trayectoria lírica le condujo del canto a la santidad; y Arnaut Daniel\, maestro de la sutileza poética elogiado por el propio Dante\, Ars Trobar Italica revive el paisaje sonoro de una tradición compartida. \nJunto a estas obras maestras occitanas\, el programa incluye madrigales y ballate del Trecento italiano (provenientes de fuentes como el Codex Rossi)\, que dan testimonio de la huella indeleble de la poética trovadoresca en el surgimiento de la canción vernácula italiana. \n 
URL:https://lemiroirdemusique.com/event/ars-trobar-italica/
LOCATION:Santiago de Compostella\, Santiago de Compostella\, Spain
END:VEVENT
BEGIN:VEVENT
DTSTART;VALUE=DATE:20260823
DTEND;VALUE=DATE:20260824
DTSTAMP:20260420T025532
CREATED:20260305T113854Z
LAST-MODIFIED:20260305T160322Z
UID:235837-1787443200-1787529599@lemiroirdemusique.com
SUMMARY:Alienor’s Trobadors
DESCRIPTION:Sirventès: Power Struggles in the court of Eleanor of Aquitaine and Richard the Lionheart through their Troubadours \nMiriam Trevisan\, Soprano\nJacob Lawrence\, Tenor\nAliénor Wolteche\, Viele\nClaire Piganiol\, Romanesque Harp\nBaptiste Romain\, Viele\, Rebec\, Bagpipes & Direction \nIn the 12th century\, Western Europe was a landscape of profound political upheaval and dynastic shifts\, driven by the ambitions of kings\, queens\, and prelates. At the center of this world stood Eleanor (Aliénor)\, Duchess of Aquitaine—one of the most influential figures of the Middle Ages\, successively Queen of France and Queen of England. \nFar from being mere observers\, the Troubadours were active participants in the political discourse of the Plantagenet court. They utilized the Sirventès—a sophisticated and highly crafted poetic form—to deliver moral critiques\, political commentary\, and sharp satire. This program explores the complex relationship between art and power\, through the refined rhymes and melodies that echoed the rebellions and intrigues of Eleanor and her son\, Richard the Lionheart. \nFeaturing works that illustrate the art of the Troubadours as a refined tool of social and political expression.
URL:https://lemiroirdemusique.com/event/alienors-trobadors/
LOCATION:Radovljica\, Slovenia\, Radovljica\, Slovenia
END:VEVENT
BEGIN:VEVENT
DTSTART;TZID=UTC:20260815T171500
DTEND;TZID=UTC:20260815T183000
DTSTAMP:20260420T025532
CREATED:20260305T113642Z
LAST-MODIFIED:20260305T155039Z
UID:235835-1786814100-1786818600@lemiroirdemusique.com
SUMMARY:De consolatione musicae
DESCRIPTION:Musik der frühen Renaissance zwischen Geist und Klang \nJacob Lawrence\, Tenor\nMarc Lewon\, Laute\, Quinterne\, Viola d’Arco\nElizabeth Rumsey\, Viola d’Arco\, Renaissancegambe\nBaptiste Romain\, Lira da braccio\, Rebec\, Vielle\, Dudelsack & Leitung \nEngelberg: Zwischen Kontemplation und Aufbruch Zu Beginn des 16. Jahrhunderts ist das Benediktinerkloster Engelberg ein Ort der Stille und des Gebets. Doch während das Stundengebet den Tageslauf ordnet\, entdeckt Europa neue Horizonte. Die Musik dieser Epoche spiegelt diese Spannungen wider: Sie ist Meditation und Erkenntnis zugleich. Dieses Programm lässt die geistige Atmosphäre der späten Renaissance zwischen liturgischer Sammlung und weltlicher Musizierfreude sinnlich erfahrbar machen. \nWerke von Agricola\, Josquin Desprez\, Senfl & Lasso.
URL:https://lemiroirdemusique.com/event/de-consolatione-musicae-2/
LOCATION:Kloster Einsiedeln\, Grosser Saal\, Kloster Einsiedeln\, Einsiedeln\, 8840\, Switzerland
END:VEVENT
BEGIN:VEVENT
DTSTART;TZID=UTC:20260621T170000
DTEND;TZID=UTC:20260621T180000
DTSTAMP:20260420T025532
CREATED:20260305T113456Z
LAST-MODIFIED:20260305T113456Z
UID:235832-1782061200-1782064800@lemiroirdemusique.com
SUMMARY:La Lyre de Leonard de Vinci
DESCRIPTION:
URL:https://lemiroirdemusique.com/event/la-lyre-de-leonard-de-vinci/
LOCATION:Sion\, Sion\, Switzerland
END:VEVENT
BEGIN:VEVENT
DTSTART;TZID=UTC:20260620T171500
DTEND;TZID=UTC:20260620T183000
DTSTAMP:20260420T025532
CREATED:20260305T113212Z
LAST-MODIFIED:20260305T154943Z
UID:235829-1781975700-1781980200@lemiroirdemusique.com
SUMMARY:De consolatione musicae
DESCRIPTION:Musik der frühen Renaissance zwischen Geist und Klang \nJacob Lawrence\, Tenor\nMarc Lewon\, Laute\, Quinterne\, Viola d’Arco\nElizabeth Rumsey\, Viola d’Arco\, Renaissancegambe\nBaptiste Romain\, Lira da braccio\, Rebec\, Vielle\, Dudelsack & Leitung \nEngelberg: Zwischen Kontemplation und Aufbruch Zu Beginn des 16. Jahrhunderts ist das Benediktinerkloster Engelberg ein Ort der Stille und des Gebets. Doch während das Stundengebet den Tageslauf ordnet\, entdeckt Europa neue Horizonte. Die Musik dieser Epoche spiegelt diese Spannungen wider: Sie ist Meditation und Erkenntnis zugleich. Dieses Programm lässt die geistige Atmosphäre der späten Renaissance zwischen liturgischer Sammlung und weltlicher Musizierfreude sinnlich erfahrbar machen. \nWerke von Agricola\, Josquin Desprez\, Senfl & Lasso.
URL:https://lemiroirdemusique.com/event/de-consolatione-musicae/
LOCATION:Kloster Einsiedeln\, Grosser Saal\, Kloster Einsiedeln\, Einsiedeln\, 8840\, Switzerland
END:VEVENT
END:VCALENDAR