BEGIN:VCALENDAR
VERSION:2.0
PRODID:-//Le Miroir de Musique - ECPv5.5.0.1//NONSGML v1.0//EN
CALSCALE:GREGORIAN
METHOD:PUBLISH
X-WR-CALNAME:Le Miroir de Musique
X-ORIGINAL-URL:https://lemiroirdemusique.com
X-WR-CALDESC:Events for Le Miroir de Musique
BEGIN:VTIMEZONE
TZID:UTC
BEGIN:STANDARD
TZOFFSETFROM:+0000
TZOFFSETTO:+0000
TZNAME:UTC
DTSTART:20260101T000000
END:STANDARD
END:VTIMEZONE
BEGIN:VEVENT
DTSTART;VALUE=DATE:20261212
DTEND;VALUE=DATE:20261213
DTSTAMP:20260420T025947
CREATED:20260305T114934Z
LAST-MODIFIED:20260305T161535Z
UID:235849-1797033600-1797119999@lemiroirdemusique.com
SUMMARY:Lo nostre Nadal
DESCRIPTION:Klangwelten der südfranzösischen Weihnacht \nMiriam Trevisan\, Sopran\, Schlagwerkinstrumente\nSilke Schulze\, Schalmei\, Doulçaine\, Einhandflöte & Trommel\nGiovanna Pessi\, Harfe\nBaptiste Romain\, Fidel\, Sackpfeife\, Rebec & Leitung \nDas Programm Lo nostre Nadal lädt zu einer musikalischen Reise durch die festlichen Traditionen Südfrankreichs ein. Es vereint adventliche Weisen aus der Provence in okzitanischer Sprache\, mittelalterliche Melodien der Trobadors\, Aquitanische Versus und traditionelle Schäfermusik aus dem Limousin\, dem Languedoc und der Gascogne. \nCharakteristisch für dieses Programm ist die Vielfalt historischer Instrumente\, die den besondere Klang dieser Musiktradition lebendig werden lassen: Sechs verschiedene Dudelsäcke entfalten kraftvolle\, vielschichtige Klangwelten\, während die Schalmei an festliche Feiern vergangener Jahrhunderte erinnert.
URL:https://lemiroirdemusique.com/event/lo-nostre-nadal/
LOCATION:Innsbruck\, Innsbruck\, Austria
END:VEVENT
END:VCALENDAR