BEGIN:VCALENDAR
VERSION:2.0
PRODID:-//Le Miroir de Musique - ECPv5.5.0.1//NONSGML v1.0//EN
CALSCALE:GREGORIAN
METHOD:PUBLISH
X-WR-CALNAME:Le Miroir de Musique
X-ORIGINAL-URL:https://lemiroirdemusique.com
X-WR-CALDESC:Events for Le Miroir de Musique
BEGIN:VTIMEZONE
TZID:UTC
BEGIN:STANDARD
TZOFFSETFROM:+0000
TZOFFSETTO:+0000
TZNAME:UTC
DTSTART:20260101T000000
END:STANDARD
END:VTIMEZONE
BEGIN:VEVENT
DTSTART;TZID=UTC:20261126T180000
DTEND;TZID=UTC:20261126T190000
DTSTAMP:20260420T025947
CREATED:20260305T114812Z
LAST-MODIFIED:20260305T114812Z
UID:235846-1795716000-1795719600@lemiroirdemusique.com
SUMMARY:La Dolce Vista
DESCRIPTION:Oeuvres de Guillaume Du Fay
URL:https://lemiroirdemusique.com/event/la-dolce-vista-3/
LOCATION:Lausanne\, Lausanne\, Switzerland
END:VEVENT
END:VCALENDAR