BEGIN:VCALENDAR
VERSION:2.0
PRODID:-//Le Miroir de Musique - ECPv5.5.0.1//NONSGML v1.0//EN
CALSCALE:GREGORIAN
METHOD:PUBLISH
X-WR-CALNAME:Le Miroir de Musique
X-ORIGINAL-URL:https://lemiroirdemusique.com
X-WR-CALDESC:Events for Le Miroir de Musique
BEGIN:VTIMEZONE
TZID:UTC
BEGIN:STANDARD
TZOFFSETFROM:+0000
TZOFFSETTO:+0000
TZNAME:UTC
DTSTART:20270101T000000
END:STANDARD
END:VTIMEZONE
BEGIN:VEVENT
DTSTART;VALUE=DATE:20270314
DTEND;VALUE=DATE:20270315
DTSTAMP:20260420T042858
CREATED:20260305T115025Z
LAST-MODIFIED:20260305T161835Z
UID:235852-1804982400-1805068799@lemiroirdemusique.com
SUMMARY:Fabula di Orfeo Fabula di Orfeo – Angelo Poliziano (1454-1494)
DESCRIPTION:Le renouveau humaniste du mythe d’Orphée \nAlice Borciani\, soprano\nTessa Roos\, mezzo-soprano\nIvo Haun\, ténor\, luth\nJacob Lawrence\, ténor\, lira da braccio\nCyril Escoffier\, ténor\nGrace Newcombe\, harpe\, soprano\nSilke Schulze\, flute et tambour\, chalémie\, bombarde\nMarc Lewon\, cistre\, luth\nBaptiste Romain\, lira da braccio\, rebec\, vièle\, cornemuse & direction \nCe spectacle fusionne concert et théâtre pour redécouvrir le mythe d’Orphée à travers le prisme du poète Poliziano. Au cœur de cette idylle arcadienne\, le dialogue entre la récitation parlée et des instruments emblématiques — lira da braccio\, cetra et luth — fait renaître l’esthétique des cours de la Renaissance. \nUne expérience poétique intense qui explore\, entre ombre et lumière\, les thèmes universels de l’amour\, de la perte et de l’espoir.
URL:https://lemiroirdemusique.com/event/fabula-di-orfeo/
LOCATION:Sion\, Sion\, Switzerland
END:VEVENT
END:VCALENDAR